BEGIN:VCALENDAR
VERSION:2.0
PRODID:-//Grief Care - ECPv6.15.14//NONSGML v1.0//EN
CALSCALE:GREGORIAN
METHOD:PUBLISH
X-ORIGINAL-URL:https://griefcare.com.au
X-WR-CALDESC:Events for Grief Care
REFRESH-INTERVAL;VALUE=DURATION:PT1H
X-Robots-Tag:noindex
X-PUBLISHED-TTL:PT1H
BEGIN:VTIMEZONE
TZID:Australia/Sydney
BEGIN:STANDARD
TZOFFSETFROM:+1100
TZOFFSETTO:+1000
TZNAME:AEST
DTSTART:20210403T160000
END:STANDARD
BEGIN:DAYLIGHT
TZOFFSETFROM:+1000
TZOFFSETTO:+1100
TZNAME:AEDT
DTSTART:20211002T160000
END:DAYLIGHT
BEGIN:STANDARD
TZOFFSETFROM:+1100
TZOFFSETTO:+1000
TZNAME:AEST
DTSTART:20220402T160000
END:STANDARD
BEGIN:DAYLIGHT
TZOFFSETFROM:+1000
TZOFFSETTO:+1100
TZNAME:AEDT
DTSTART:20221001T160000
END:DAYLIGHT
BEGIN:STANDARD
TZOFFSETFROM:+1100
TZOFFSETTO:+1000
TZNAME:AEST
DTSTART:20230401T160000
END:STANDARD
BEGIN:DAYLIGHT
TZOFFSETFROM:+1000
TZOFFSETTO:+1100
TZNAME:AEDT
DTSTART:20230930T160000
END:DAYLIGHT
END:VTIMEZONE
BEGIN:VEVENT
DTSTART;TZID=Australia/Sydney:20220621T110000
DTEND;TZID=Australia/Sydney:20220621T120000
DTSTAMP:20260422T171845
CREATED:20220515T013642Z
LAST-MODIFIED:20220515T013642Z
UID:15339-1655809200-1655812800@griefcare.com.au
SUMMARY:Bereaved Parents Group
DESCRIPTION:Bereaved Parents Group \nA space for your grief and a chance to connect with other bereaved parents.\nMorning tea is provided. \nWhen: 21st June 2022\nWhere: Strathfield Golf Club\nTime: 11am-12 pm \nPlease RSVP prior to:\nCarmela Di Pietro at  carmela@catholiccemeteries.com.au
URL:https://griefcare.com.au/event/bereaved-parents-group/
ATTACH;FMTTYPE=:
END:VEVENT
END:VCALENDAR