BEGIN:VCALENDAR
VERSION:2.0
PRODID:-//Grief Care - ECPv6.15.14//NONSGML v1.0//EN
CALSCALE:GREGORIAN
METHOD:PUBLISH
X-ORIGINAL-URL:https://griefcare.com.au
X-WR-CALDESC:Events for Grief Care
REFRESH-INTERVAL;VALUE=DURATION:PT1H
X-Robots-Tag:noindex
X-PUBLISHED-TTL:PT1H
BEGIN:VTIMEZONE
TZID:Australia/Sydney
BEGIN:STANDARD
TZOFFSETFROM:+1100
TZOFFSETTO:+1000
TZNAME:AEST
DTSTART:20220402T160000
END:STANDARD
BEGIN:DAYLIGHT
TZOFFSETFROM:+1000
TZOFFSETTO:+1100
TZNAME:AEDT
DTSTART:20221001T160000
END:DAYLIGHT
BEGIN:STANDARD
TZOFFSETFROM:+1100
TZOFFSETTO:+1000
TZNAME:AEST
DTSTART:20230401T160000
END:STANDARD
BEGIN:DAYLIGHT
TZOFFSETFROM:+1000
TZOFFSETTO:+1100
TZNAME:AEDT
DTSTART:20230930T160000
END:DAYLIGHT
BEGIN:STANDARD
TZOFFSETFROM:+1100
TZOFFSETTO:+1000
TZNAME:AEST
DTSTART:20240406T160000
END:STANDARD
BEGIN:DAYLIGHT
TZOFFSETFROM:+1000
TZOFFSETTO:+1100
TZNAME:AEDT
DTSTART:20241005T160000
END:DAYLIGHT
END:VTIMEZONE
BEGIN:VEVENT
DTSTART;TZID=Australia/Sydney:20230314T110000
DTEND;TZID=Australia/Sydney:20230314T130000
DTSTAMP:20260422T223305
CREATED:20230220T061745Z
LAST-MODIFIED:20230316T025341Z
UID:16525-1678791600-1678798800@griefcare.com.au
SUMMARY:Ageing Well Masterclass 6 Workshop
DESCRIPTION:Bringing together a team of clincal experts and professionals in the field of ageing\, the Ageing Well masterclasses are designed to provide practical assistance and support to help navigate some of the issues around ageing\, including vital information about available services. \nMasterclass 6 will be held on Tuesday 14th March at 11am\, concluding at approximately 1pm. Lunch will be included. \nHosted by St Peter Chanel and St Joseph Parish located at 60 Kingsland Road\, Berala. \nEvent Dates in Berala for 2023 are:   \n\nTuesday 14 March\n\nRegister to Lea: Ph: 9644 7787 or REGISTER ONLINE
URL:https://griefcare.com.au/event/ageing-well-maserclass-6-workshop/
LOCATION:St Joseph Parish\, 60 Kingsland Road\, Berala\, NSW\, 2141\, Australia
ATTACH;FMTTYPE=image/jpeg:https://griefcare.com.au/wp-content/uploads/2023/02/hero-image-ageing-well.jpg
END:VEVENT
BEGIN:VEVENT
DTSTART;TZID=Australia/Sydney:20230314T110000
DTEND;TZID=Australia/Sydney:20230314T130000
DTSTAMP:20260422T223305
CREATED:20230220T061745Z
LAST-MODIFIED:20230220T061745Z
UID:17127-1678791600-1678798800@griefcare.com.au
SUMMARY:Ageing Well Masterclass 6 Workshop
DESCRIPTION:Bringing together a team of clincal experts and professionals in the field of ageing\, the Ageing Well masterclasses are designed to provide practical assistance and support to help navigate some of the issues around ageing\, including vital information about available services. \nMasterclass 6 will be held on Tuesday 14th March at 11am\, concluding at approximately 1pm. Lunch will be included. \nHosted by St Peter Chanel and St Joseph Parish located at 60 Kingsland Road\, Berala. \nEvent Dates in Berala for 2023 are:   \n\nTuesday 14 March\n\nRegister to Lea: Ph: 9644 7787 or REGISTER ONLINE
URL:https://griefcare.com.au/event/ageing-well-maserclass-6-workshop-2/
LOCATION:NSW
ATTACH;FMTTYPE=:
END:VEVENT
END:VCALENDAR