BEGIN:VCALENDAR
VERSION:2.0
PRODID:-//Grief Care - ECPv6.15.14//NONSGML v1.0//EN
CALSCALE:GREGORIAN
METHOD:PUBLISH
X-ORIGINAL-URL:https://griefcare.com.au
X-WR-CALDESC:Events for Grief Care
REFRESH-INTERVAL;VALUE=DURATION:PT1H
X-Robots-Tag:noindex
X-PUBLISHED-TTL:PT1H
BEGIN:VTIMEZONE
TZID:Australia/Sydney
BEGIN:STANDARD
TZOFFSETFROM:+1100
TZOFFSETTO:+1000
TZNAME:AEST
DTSTART:20210403T160000
END:STANDARD
BEGIN:DAYLIGHT
TZOFFSETFROM:+1000
TZOFFSETTO:+1100
TZNAME:AEDT
DTSTART:20211002T160000
END:DAYLIGHT
BEGIN:STANDARD
TZOFFSETFROM:+1100
TZOFFSETTO:+1000
TZNAME:AEST
DTSTART:20220402T160000
END:STANDARD
BEGIN:DAYLIGHT
TZOFFSETFROM:+1000
TZOFFSETTO:+1100
TZNAME:AEDT
DTSTART:20221001T160000
END:DAYLIGHT
BEGIN:STANDARD
TZOFFSETFROM:+1100
TZOFFSETTO:+1000
TZNAME:AEST
DTSTART:20230401T160000
END:STANDARD
BEGIN:DAYLIGHT
TZOFFSETFROM:+1000
TZOFFSETTO:+1100
TZNAME:AEDT
DTSTART:20230930T160000
END:DAYLIGHT
END:VTIMEZONE
BEGIN:VEVENT
DTSTART;TZID=Australia/Sydney:20220621T180000
DTEND;TZID=Australia/Sydney:20220621T190000
DTSTAMP:20260426T014911
CREATED:20220608T204434Z
LAST-MODIFIED:20220608T204434Z
UID:15341-1655834400-1655838000@griefcare.com.au
SUMMARY:Sydney Homeless Memorial Service
DESCRIPTION:Please join us for this special Service commemorating all individuals who have died while experiencing homelessness in the past year. \nWhen: Tuesday 21 June 2022 at 6pm \nWhere: Cathedral Square\, College St Sydney \nAll Welcome \nVIEW THE ORDER OF SERVICE BOOKLET
URL:https://griefcare.com.au/event/sydney-homeless-memorial-service/
ATTACH;FMTTYPE=:
END:VEVENT
END:VCALENDAR